{
 "currentVersion": 10.81,
 "serviceDescription": "Imagery/Aerials2015",
 "name": "Imagery/Aerials2015",
 "description": "",
 "extent": {
  "xmin": 2065296,
  "ymin": 137434.5,
  "xmax": 2224310,
  "ymax": 264809.5,
  "spatialReference": {
   "wkid": 102724,
   "latestWkid": 2267
  }
 },
 "initialExtent": {
  "xmin": 2065296,
  "ymin": 137434.5,
  "xmax": 2224310,
  "ymax": 264809.5,
  "spatialReference": {
   "wkid": 102724,
   "latestWkid": 2267
  }
 },
 "fullExtent": {
  "xmin": 2065296,
  "ymin": 137434.5,
  "xmax": 2224310,
  "ymax": 264809.5,
  "spatialReference": {
   "wkid": 102724,
   "latestWkid": 2267
  }
 },
 "pixelSizeX": 0.5,
 "pixelSizeY": 0.5,
 "bandCount": 3,
 "pixelType": "U8",
 "minPixelSize": 0,
 "maxPixelSize": 0,
 "copyrightText": "",
 "serviceDataType": "esriImageServiceDataTypeRGB",
 "minValues": [
  0,
  0,
  0
 ],
 "maxValues": [
  255,
  255,
  255
 ],
 "meanValues": [
  89.282254782255,
  72.79711029711,
  58.448514448514
 ],
 "stdvValues": [
  29.34628111059,
  28.8871772726,
  28.036836466599
 ],
 "objectIdField": "",
 "fields": [],
 "capabilities": "Image,Metadata,Mensuration",
 "defaultMosaicMethod": "Center",
 "allowedMosaicMethods": "",
 "sortField": "",
 "sortValue": null,
 "sortAscending": true,
 "mosaicOperator": "First",
 "defaultCompressionQuality": 75,
 "defaultResamplingMethod": "Bilinear",
 "maxImageHeight": 4100,
 "maxImageWidth": 15000,
 "allowRasterFunction": true,
 "rasterFunctionInfos": [
  {
   "name": "None",
   "description": "",
   "help": ""
  }
 ],
 "rasterTypeInfos": [
  {
   "name": "Raster Dataset",
   "description": "Supports all ArcGIS Raster Datasets",
   "help": ""
  }
 ],
 "mensurationCapabilities": "Basic",
 "hasHistograms": true,
 "hasColormap": false,
 "hasRasterAttributeTable": false,
 "minScale": 0,
 "maxScale": 0,
 "exportTilesAllowed": false,
 "hasMultidimensions": false,
 "supportsStatistics": false,
 "supportsAdvancedQueries": false,
 "editFieldsInfo": null,
 "ownershipBasedAccessControlForRasters": null,
 "allowComputeTiePoints": false,
 "useStandardizedQueries": true,
 "advancedQueryCapabilities": {
  "useStandardizedQueries": true,
  "supportsStatistics": false,
  "supportsOrderBy": false,
  "supportsDistinct": false,
  "supportsPagination": false
 },
 "spatialReference": {
  "wkid": 102724,
  "latestWkid": 2267
 }
}
